BEGIN:VCALENDAR
VERSION:2.0
PRODID:-//Tukios.com/
BEGIN:VEVENT
UID:5ba0b7b3-a39e-4787-a360-6e46d63fdc72@www.shipmansfuneralhome.com
DTSTAMP:20260421T230347Z
DTSTART:20260424T190000Z
DTEND:20260424T200000Z
SUMMARY:Funeral Service
DESCRIPTION:
URL:https://www.shipmansfuneralhome.com/obituaries/al-bray
LOCATION: 1204 N. E. 1st St.  Pryor OK 74362
GEO:36.3070874;-95.3046746
END:VEVENT
END:VCALENDAR