BEGIN:VCALENDAR
VERSION:2.0
PRODID:-//Tukios.com/
BEGIN:VEVENT
UID:790ffdc0-6970-4faa-b5a0-0f5b5bf63a9b@www.shipmansfuneralhome.com
DTSTAMP:20260421T230223Z
DTSTART:20260424
SUMMARY:Burial
DESCRIPTION:
URL:https://www.shipmansfuneralhome.com/obituaries/al-bray
LOCATION: 1664 N.E. 1st St  Pryor OK 74361
GEO:36.3054231;-95.2974344
END:VEVENT
END:VCALENDAR