BEGIN:VCALENDAR
VERSION:2.0
PRODID:-//Tukios.com/
BEGIN:VEVENT
UID:2d912f7a-5e09-4a11-bc6c-5f2cb42808c8@www.shipmansfuneralhome.com
DTSTAMP:20260420T205034Z
DTSTART:20260424T220000Z
DTEND:20260425T000000Z
SUMMARY:Book Signing
DESCRIPTION:
URL:https://www.shipmansfuneralhome.com/obituaries/kenneth-macken
LOCATION: 1204 N. E. 1st St.  Pryor OK 74362
GEO:36.3070874;-95.3046746
END:VEVENT
END:VCALENDAR