BEGIN:VCALENDAR
VERSION:2.0
PRODID:-//Tukios.com/
BEGIN:VEVENT
UID:9c30ff5d-f949-4e27-bb95-a702113daeb0@www.shipmansfuneralhome.com
DTSTAMP:20260420T204851Z
DTSTART:20260425T190000Z
DTEND:20260425T200000Z
SUMMARY:Celebration of Life
DESCRIPTION:
URL:https://www.shipmansfuneralhome.com/obituaries/kenneth-macken
LOCATION:Eastern Hills Baptist Church 16912 E 480 Rd  Claremore OK 74019
GEO:36.3215733;-95.5265642
END:VEVENT
END:VCALENDAR