BEGIN:VCALENDAR
VERSION:2.0
PRODID:-//Tukios.com/
BEGIN:VEVENT
UID:5d092634-003f-47c5-8183-8db1250c0eb8@www.shipmansfuneralhome.com
DTSTAMP:20260420T204510Z
DTSTART:20260425
SUMMARY:Burial
DESCRIPTION:
URL:https://www.shipmansfuneralhome.com/obituaries/kenneth-macken
LOCATION: Leach, Oklahoma  Leach OK 74364
GEO:36.2048101;-94.9224544
END:VEVENT
END:VCALENDAR