BEGIN:VCALENDAR
VERSION:2.0
PRODID:-//Tukios.com/
BEGIN:VEVENT
UID:9e12b4c3-f6f8-4288-a35a-18fa97bfc8b5@www.shipmansfuneralhome.com
DTSTAMP:20260420T204443Z
DTSTART:20260425T180000Z
DTEND:20260425T190000Z
SUMMARY:Viewing
DESCRIPTION:
URL:https://www.shipmansfuneralhome.com/obituaries/kenneth-macken
LOCATION:Eastern Hills Baptist Church 16912 E 480 Rd  Claremore OK 74019
GEO:36.3215733;-95.5265642
END:VEVENT
END:VCALENDAR