BEGIN:VCALENDAR
VERSION:2.0
PRODID:-//Tukios.com/
BEGIN:VEVENT
UID:34200b2e-1c62-4131-bd44-1765e15fe2ae@www.shipmansfuneralhome.com
DTSTAMP:20260420T230759Z
DTSTART:20260423T230000Z
DTEND:20260424T010000Z
SUMMARY:Visitation
DESCRIPTION:
URL:https://www.shipmansfuneralhome.com/obituaries/ronald-sherman
LOCATION: 1204 N. E. 1st St.  Pryor OK 74362
GEO:36.3070874;-95.3046746
END:VEVENT
END:VCALENDAR