BEGIN:VCALENDAR
VERSION:2.0
PRODID:-//Tukios.com/
BEGIN:VEVENT
UID:be4fed33-00b2-440d-881b-b89f6424d9ac@www.shipmansfuneralhome.com
DTSTAMP:20260420T230927Z
DTSTART:20260424T150000Z
DTEND:20260424T160000Z
SUMMARY:Funeral Service
DESCRIPTION:
URL:https://www.shipmansfuneralhome.com/obituaries/ronald-sherman
LOCATION: 278 Main St  Big Cabin OK 74332
GEO:36.5369094;-95.2177459
END:VEVENT
END:VCALENDAR