BEGIN:VCALENDAR
VERSION:2.0
PRODID:-//Tukios.com/
BEGIN:VEVENT
UID:964edfb5-527f-4222-859e-11c6a40ce79e@www.shipmansfuneralhome.com
DTSTAMP:20260420T230810Z
DTSTART:20260424T170000Z
DTEND:20260424T180000Z
SUMMARY:Burial
DESCRIPTION:
URL:https://www.shipmansfuneralhome.com/obituaries/ronald-sherman
LOCATION: 33499-33585 S US-69  Big Cabin OK 74332
GEO:36.5331826;-95.2282988
END:VEVENT
END:VCALENDAR