BEGIN:VCALENDAR
VERSION:2.0
PRODID:-//Tukios.com/
BEGIN:VEVENT
UID:416bedef-9ad2-4fe8-8f61-8b8dd651f7b8@www.shipmansfuneralhome.com
DTSTAMP:20260421T200326Z
DTSTART:20260422T220000Z
DTEND:20260423T000000Z
SUMMARY:Visitation
DESCRIPTION:
URL:https://www.shipmansfuneralhome.com/obituaries/verna-vann
LOCATION: 1204 N. E. 1st St.  Pryor OK 74362
GEO:36.3070874;-95.3046746
END:VEVENT
END:VCALENDAR