BEGIN:VCALENDAR
VERSION:2.0
PRODID:-//Tukios.com/
BEGIN:VEVENT
UID:2b772759-3cac-4d8d-a9c5-88650b233a95@www.shipmansfuneralhome.com
DTSTAMP:20260421T200327Z
DTSTART:20260423T160000Z
DTEND:20260423T170000Z
SUMMARY:Funeral Service
DESCRIPTION:
URL:https://www.shipmansfuneralhome.com/obituaries/verna-vann
LOCATION: 1204 N. E. 1st St.  Pryor OK 74362
GEO:36.3070874;-95.3046746
END:VEVENT
END:VCALENDAR